BEGIN:VCALENDAR
VERSION:2.0
PRODID:-//Evergreen Academy Preschool - ECPv6.15.20//NONSGML v1.0//EN
CALSCALE:GREGORIAN
METHOD:PUBLISH
X-WR-CALNAME:Evergreen Academy Preschool
X-ORIGINAL-URL:https://evergreen.qualityconnections.org
X-WR-CALDESC:Events for Evergreen Academy Preschool
REFRESH-INTERVAL;VALUE=DURATION:PT1H
X-Robots-Tag:noindex
X-PUBLISHED-TTL:PT1H
BEGIN:VTIMEZONE
TZID:UTC
BEGIN:STANDARD
TZOFFSETFROM:+0000
TZOFFSETTO:+0000
TZNAME:UTC
DTSTART:20240101T000000
END:STANDARD
END:VTIMEZONE
BEGIN:VEVENT
DTSTART;VALUE=DATE:20251226
DTEND;VALUE=DATE:20251227
DTSTAMP:20260424T152532
CREATED:20241105T153534Z
LAST-MODIFIED:20241105T153534Z
UID:934-1766707200-1766793599@evergreen.qualityconnections.org
SUMMARY:Christmas Break\, No School
DESCRIPTION:
URL:https://evergreen.qualityconnections.org/event/christmas-break-no-school-5/
END:VEVENT
BEGIN:VEVENT
DTSTART;VALUE=DATE:20251225
DTEND;VALUE=DATE:20251226
DTSTAMP:20260424T152532
CREATED:20241105T153519Z
LAST-MODIFIED:20241105T153519Z
UID:932-1766620800-1766707199@evergreen.qualityconnections.org
SUMMARY:Christmas Break\, No School
DESCRIPTION:
URL:https://evergreen.qualityconnections.org/event/christmas-break-no-school-4/
END:VEVENT
BEGIN:VEVENT
DTSTART;VALUE=DATE:20251224
DTEND;VALUE=DATE:20251225
DTSTAMP:20260424T152532
CREATED:20241105T153507Z
LAST-MODIFIED:20241105T153507Z
UID:930-1766534400-1766620799@evergreen.qualityconnections.org
SUMMARY:Christmas Break\, No School
DESCRIPTION:
URL:https://evergreen.qualityconnections.org/event/christmas-break-no-school-3/
END:VEVENT
BEGIN:VEVENT
DTSTART;VALUE=DATE:20251223
DTEND;VALUE=DATE:20251224
DTSTAMP:20260424T152532
CREATED:20241105T153456Z
LAST-MODIFIED:20241105T153456Z
UID:928-1766448000-1766534399@evergreen.qualityconnections.org
SUMMARY:Christmas Break\, No School
DESCRIPTION:
URL:https://evergreen.qualityconnections.org/event/christmas-break-no-school-2/
END:VEVENT
BEGIN:VEVENT
DTSTART;VALUE=DATE:20251222
DTEND;VALUE=DATE:20251223
DTSTAMP:20260424T152532
CREATED:20241024T161955Z
LAST-MODIFIED:20241105T153445Z
UID:723-1766361600-1766447999@evergreen.qualityconnections.org
SUMMARY:Christmas Break\, No School
DESCRIPTION:
URL:https://evergreen.qualityconnections.org/event/christmas-break-no-school/
END:VEVENT
BEGIN:VEVENT
DTSTART;VALUE=DATE:20251219
DTEND;VALUE=DATE:20251220
DTSTAMP:20260424T152532
CREATED:20241024T161916Z
LAST-MODIFIED:20241024T161916Z
UID:721-1766102400-1766188799@evergreen.qualityconnections.org
SUMMARY:Parent/Teacher Conferences\, No School
DESCRIPTION:
URL:https://evergreen.qualityconnections.org/event/parent-teacher-conferences-no-school-2/
END:VEVENT
BEGIN:VEVENT
DTSTART;VALUE=DATE:20251128
DTEND;VALUE=DATE:20251129
DTSTAMP:20260424T152532
CREATED:20241105T153405Z
LAST-MODIFIED:20241105T153405Z
UID:925-1764288000-1764374399@evergreen.qualityconnections.org
SUMMARY:Thanksgiving Break\, No School
DESCRIPTION:
URL:https://evergreen.qualityconnections.org/event/thanksgiving-break-no-school-3/
END:VEVENT
BEGIN:VEVENT
DTSTART;VALUE=DATE:20251127
DTEND;VALUE=DATE:20251128
DTSTAMP:20260424T152532
CREATED:20241105T153353Z
LAST-MODIFIED:20241105T153353Z
UID:923-1764201600-1764287999@evergreen.qualityconnections.org
SUMMARY:Thanksgiving Break\, No School
DESCRIPTION:
URL:https://evergreen.qualityconnections.org/event/thanksgiving-break-no-school-2/
END:VEVENT
BEGIN:VEVENT
DTSTART;VALUE=DATE:20251126
DTEND;VALUE=DATE:20251127
DTSTAMP:20260424T152532
CREATED:20241024T161825Z
LAST-MODIFIED:20241105T153339Z
UID:719-1764115200-1764201599@evergreen.qualityconnections.org
SUMMARY:Thanksgiving Break\, No School
DESCRIPTION:
URL:https://evergreen.qualityconnections.org/event/thanksgiving-break-no-school/
END:VEVENT
BEGIN:VEVENT
DTSTART;VALUE=DATE:20251111
DTEND;VALUE=DATE:20251112
DTSTAMP:20260424T152532
CREATED:20241024T161749Z
LAST-MODIFIED:20241024T161749Z
UID:717-1762819200-1762905599@evergreen.qualityconnections.org
SUMMARY:Veteran's Day\, No School
DESCRIPTION:
URL:https://evergreen.qualityconnections.org/event/veterans-day-no-school/
END:VEVENT
BEGIN:VEVENT
DTSTART;VALUE=DATE:20250926
DTEND;VALUE=DATE:20250927
DTSTAMP:20260424T152532
CREATED:20241024T161650Z
LAST-MODIFIED:20241024T161650Z
UID:715-1758844800-1758931199@evergreen.qualityconnections.org
SUMMARY:Parent/Teacher Conferences\, No School
DESCRIPTION:
URL:https://evergreen.qualityconnections.org/event/parent-teacher-conferences-no-school/
END:VEVENT
BEGIN:VEVENT
DTSTART;VALUE=DATE:20250901
DTEND;VALUE=DATE:20250902
DTSTAMP:20260424T152532
CREATED:20241024T161618Z
LAST-MODIFIED:20241024T161618Z
UID:713-1756684800-1756771199@evergreen.qualityconnections.org
SUMMARY:Labor Day\, No School
DESCRIPTION:
URL:https://evergreen.qualityconnections.org/event/labor-day-no-school/
END:VEVENT
BEGIN:VEVENT
DTSTART;VALUE=DATE:20250829
DTEND;VALUE=DATE:20250830
DTSTAMP:20260424T152532
CREATED:20241024T161259Z
LAST-MODIFIED:20241024T161330Z
UID:711-1756425600-1756511999@evergreen.qualityconnections.org
SUMMARY:Fall Semester Reset\, No School
DESCRIPTION:
URL:https://evergreen.qualityconnections.org/event/fall-semester-reset-no-school/
END:VEVENT
BEGIN:VEVENT
DTSTART;TZID=UTC:20250725T060000
DTEND;TZID=UTC:20250725T120000
DTSTAMP:20260424T152532
CREATED:20241024T161148Z
LAST-MODIFIED:20241024T161148Z
UID:709-1753423200-1753444800@evergreen.qualityconnections.org
SUMMARY:Early Release
DESCRIPTION:
URL:https://evergreen.qualityconnections.org/event/early-release-7/
END:VEVENT
BEGIN:VEVENT
DTSTART;VALUE=DATE:20250704
DTEND;VALUE=DATE:20250705
DTSTAMP:20260424T152532
CREATED:20241024T160416Z
LAST-MODIFIED:20241024T161111Z
UID:707-1751587200-1751673599@evergreen.qualityconnections.org
SUMMARY:Independence Day\, School Closed
DESCRIPTION:
URL:https://evergreen.qualityconnections.org/event/independence-day-school-closed/
END:VEVENT
BEGIN:VEVENT
DTSTART;VALUE=DATE:20250620
DTEND;VALUE=DATE:20250621
DTSTAMP:20260424T152532
CREATED:20241024T160351Z
LAST-MODIFIED:20241024T160351Z
UID:705-1750377600-1750463999@evergreen.qualityconnections.org
SUMMARY:Parent/Teacher Conferences\, School Closed
DESCRIPTION:
URL:https://evergreen.qualityconnections.org/event/parent-teacher-conferences-school-closed-2/
END:VEVENT
BEGIN:VEVENT
DTSTART;VALUE=DATE:20250619
DTEND;VALUE=DATE:20250620
DTSTAMP:20260424T152532
CREATED:20241024T160326Z
LAST-MODIFIED:20241024T160326Z
UID:703-1750291200-1750377599@evergreen.qualityconnections.org
SUMMARY:Juneteenth\, School Closed
DESCRIPTION:
URL:https://evergreen.qualityconnections.org/event/juneteenth-school-closed/
END:VEVENT
BEGIN:VEVENT
DTSTART;VALUE=DATE:20250526
DTEND;VALUE=DATE:20250527
DTSTAMP:20260424T152532
CREATED:20241024T160258Z
LAST-MODIFIED:20241024T160258Z
UID:701-1748217600-1748303999@evergreen.qualityconnections.org
SUMMARY:Memorial Day\, School Closed
DESCRIPTION:
URL:https://evergreen.qualityconnections.org/event/memorial-day-school-closed/
END:VEVENT
BEGIN:VEVENT
DTSTART;TZID=UTC:20250523T060000
DTEND;TZID=UTC:20250523T120000
DTSTAMP:20260424T152532
CREATED:20241024T160226Z
LAST-MODIFIED:20241024T160226Z
UID:699-1747980000-1748001600@evergreen.qualityconnections.org
SUMMARY:Early Release
DESCRIPTION:
URL:https://evergreen.qualityconnections.org/event/early-release-6/
END:VEVENT
BEGIN:VEVENT
DTSTART;TZID=UTC:20250425T060000
DTEND;TZID=UTC:20250425T120000
DTSTAMP:20260424T152532
CREATED:20241024T160152Z
LAST-MODIFIED:20241024T160202Z
UID:697-1745560800-1745582400@evergreen.qualityconnections.org
SUMMARY:Early Release
DESCRIPTION:
URL:https://evergreen.qualityconnections.org/event/early-release-5/
END:VEVENT
BEGIN:VEVENT
DTSTART;TZID=UTC:20250417T090000
DTEND;TZID=UTC:20250417T113000
DTSTAMP:20260424T152532
CREATED:20241024T004921Z
LAST-MODIFIED:20241024T004921Z
UID:659-1744880400-1744889400@evergreen.qualityconnections.org
SUMMARY:PALS Mobile
DESCRIPTION:
URL:https://evergreen.qualityconnections.org/event/pals-mobile-6/
END:VEVENT
BEGIN:VEVENT
DTSTART;VALUE=DATE:20250328
DTEND;VALUE=DATE:20250329
DTSTAMP:20260424T152532
CREATED:20241024T160048Z
LAST-MODIFIED:20241024T160048Z
UID:695-1743120000-1743206399@evergreen.qualityconnections.org
SUMMARY:Parent/Teacher Conferences\, School Closed
DESCRIPTION:
URL:https://evergreen.qualityconnections.org/event/parent-teacher-conferences-school-closed/
END:VEVENT
BEGIN:VEVENT
DTSTART;TZID=UTC:20250327T090000
DTEND;TZID=UTC:20250327T133000
DTSTAMP:20260424T152532
CREATED:20241024T004855Z
LAST-MODIFIED:20241024T004855Z
UID:657-1743066000-1743082200@evergreen.qualityconnections.org
SUMMARY:PALS Mobile
DESCRIPTION:
URL:https://evergreen.qualityconnections.org/event/pals-mobile-5/
END:VEVENT
BEGIN:VEVENT
DTSTART;TZID=UTC:20250228T060000
DTEND;TZID=UTC:20250228T060000
DTSTAMP:20260424T152532
CREATED:20241024T160004Z
LAST-MODIFIED:20241105T153038Z
UID:693-1740722400-1740722400@evergreen.qualityconnections.org
SUMMARY:Early Release
DESCRIPTION:
URL:https://evergreen.qualityconnections.org/event/early-release-4/
END:VEVENT
BEGIN:VEVENT
DTSTART;TZID=UTC:20250220T090000
DTEND;TZID=UTC:20250220T113000
DTSTAMP:20260424T152532
CREATED:20241024T004830Z
LAST-MODIFIED:20241024T004830Z
UID:655-1740042000-1740051000@evergreen.qualityconnections.org
SUMMARY:PALS Mobile
DESCRIPTION:
URL:https://evergreen.qualityconnections.org/event/pals-mobile-4/
END:VEVENT
BEGIN:VEVENT
DTSTART;VALUE=DATE:20250217
DTEND;VALUE=DATE:20250218
DTSTAMP:20260424T152532
CREATED:20241024T155912Z
LAST-MODIFIED:20241105T153010Z
UID:691-1739750400-1739836799@evergreen.qualityconnections.org
SUMMARY:President's Day\, School Closed
DESCRIPTION:
URL:https://evergreen.qualityconnections.org/event/presidents-day-school-closed/
END:VEVENT
BEGIN:VEVENT
DTSTART;TZID=UTC:20250123T093000
DTEND;TZID=UTC:20250123T113000
DTSTAMP:20260424T152532
CREATED:20241024T004804Z
LAST-MODIFIED:20241024T004804Z
UID:653-1737624600-1737631800@evergreen.qualityconnections.org
SUMMARY:PALS Mobile
DESCRIPTION:
URL:https://evergreen.qualityconnections.org/event/pals-mobile-3/
END:VEVENT
BEGIN:VEVENT
DTSTART;VALUE=DATE:20250120
DTEND;VALUE=DATE:20250121
DTSTAMP:20260424T152532
CREATED:20241024T154636Z
LAST-MODIFIED:20241024T155203Z
UID:684-1737331200-1737417599@evergreen.qualityconnections.org
SUMMARY:Martin Luther King Jr. Day\, School Closed
DESCRIPTION:
URL:https://evergreen.qualityconnections.org/event/martin-luther-king-jr-day/
END:VEVENT
BEGIN:VEVENT
DTSTART;VALUE=DATE:20250103
DTEND;VALUE=DATE:20250104
DTSTAMP:20260424T152532
CREATED:20241105T153145Z
LAST-MODIFIED:20241105T153145Z
UID:921-1735862400-1735948799@evergreen.qualityconnections.org
SUMMARY:Spring Semester Reset\, School Closed
DESCRIPTION:
URL:https://evergreen.qualityconnections.org/event/spring-semester-reset-school-closed/
END:VEVENT
BEGIN:VEVENT
DTSTART;VALUE=DATE:20250102
DTEND;VALUE=DATE:20250103
DTSTAMP:20260424T152532
CREATED:20241024T154614Z
LAST-MODIFIED:20241105T153119Z
UID:682-1735776000-1735862399@evergreen.qualityconnections.org
SUMMARY:Spring Semester Reset\, School Closed
DESCRIPTION:
URL:https://evergreen.qualityconnections.org/event/spring-semester-reset/
END:VEVENT
END:VCALENDAR